BEGIN:VCALENDAR
VERSION:2.0
PRODID:-//Tukios.com/
BEGIN:VEVENT
UID:2be2c228-4066-4227-9299-5bd85a07e42c@www.cardarofuneralhome.com
DTSTAMP:20260425T190032Z
DTSTART:20260428T200000Z
DTEND:20260428T220000Z
SUMMARY:Visitation
DESCRIPTION:
URL:https://www.cardarofuneralhome.com/obituaries/geraldine-marts
LOCATION:Joseph J. Cardaro Funeral Home 1125 Kenneth Ave.  Kensington PA 
	15068
GEO:40.5690118;-79.763811
END:VEVENT
END:VCALENDAR